Workbook

Sheet 12 Months cash flow statement
A1: SHANETS STATEMENT OF CASH FLOW FOR TWELVE MONTHS
A3: DESCRIPTION | B3: Month 1 | C3: Month 2 | D3: Month 3 | E3: Month 4 | F3: Month 5 | G3: MONTH 6 | H3: MONTH 7 | I3: MONTH 8 | J3: MONTH 9 | K3: MONTH 10 | L3: MONTH 11 | M3: MONTH 12 | N3: TOTAL
A4: CASH RECEIPTS
A5: Revenue | B5: =B6+B7+B8+B9 -> 217200 | C5: =C6+C7+C8+C9 -> 217200 | D5: =D6+D7+D8+D9 -> 217200 | E5: =E6+E7+E8+E9 -> 217200 | F5: =F6+F7+F8+F9 -> 217200 | G5: =G6+G7+G8+G9 -> 217200 | H5: =H6+H7+H8+H9 -> 217200 | I5: =I6+I7+I8+I9 -> 217200 | ... N5: =N6+N7+N8+N9 -> 2606400
A6: Ting | B6: 42000 | C6: 42000 | D6: 42000 | E6: 42000 | F6: 42000 | G6: 42000 | H6: 42000 | I6: 42000 | J6: 42000 | K6: 42000 | L6: 42000 | M6: 42000 | N6: =SUM(B6:M6) -> 504000
A7: Breakfast cereal biscuit | B7: 90000 | C7: 90000 | D7: 90000 | E7: 90000 | F7: 90000 | G7: 90000 | H7: 90000 | I7: 90000 | J7: 90000 | K7: 90000 | L7: 90000 | M7: 90000 | N7: =M7+L7+K7+J7+I7+H7+G7+F7+E7+D7+C7+B7 -> 1080000
A8: Breakfast cereal bar | B8: 57600 | C8: 57600 | D8: 57600 | E8: 57600 | F8: 57600 | G8: 57600 | H8: 57600 | I8: 57600 | J8: 57600 | K8: 57600 | L8: 57600 | M8: 57600 | N8: =M8+L8+K8+J8+I8+H8+G8+F8+E8+D8+C8+B8 -> 691200
A9: Breakfast cereal café | B9: 27600 | C9: 27600 | D9: 27600 | E9: 27600 | F9: 27600 | G9: 27600 | H9: 27600 | I9: 27600 | J9: 27600 | K9: 27600 | L9: 27600 | M9: 27600 | N9: =M9+L9+K9+J9+I9+H9+G9+F9+E9+D9+C9+B9 -> 331200
A10: owner's contributions | B10: 40000 | C10: 0 | D10: 0 | E10: 0 | F10: 0 | G10: 0 | H10: 0 | I10: 0 | J10: 0 | K10: 0 | L10: 0 | M10: 0 | N10: =M10+L10+K10+J10+I10+H10+G10+F10+E10+D10+C10+B10 -> 40000
A11: Business loan | B11: 1000000 | C11: 0 | D11: 0 | E11: 0 | F11: 0 | G11: 0 | H11: 0 | I11: 0 | J11: 0 | K11: 0 | L11: 0 | M11: 0 | N11: =M11+L11+K11+J11+I11+H11+G11+F11+E11+D11+C11+B11 -> 1000000
A12: TOTAL CASH RECEIVED | B12: =B5+B10+B11 -> 1257200 | C12: =C5+C10+C11 -> 217200 | D12: =D5+D10+D11 -> 217200 | E12: =E5+E10+E11 -> 217200 | F12: =F5+F10+F11 -> 217200 | G12: =G5+G10+G11 -> 217200 | H12: =H5+H10+H11 -> 217200 | I12: =I5+I10+I11 -> 217200 | ... N12: =N5+N10+N11 -> 3646400
A13: LESS CASH PAYMENTS | B13: =SUM(B14:B34) -> 860131 | C13: =SUM(C14:C34) -> 668631 | D13: =SUM(D14:D34) -> 325630 | E13: =SUM(E14:E34) -> 326130 | F13: =SUM(F14:F34) -> 326631 | G13: =SUM(G14:G34) -> 333130 | H13: =SUM(H14:H34) -> 356131 | I13: =SUM(I14:I34) -> 306131 | ... N13: =SUM(N14:N34) -> 4830732
A14: Cost of Sales | B14: =ROUND(19%*B5,0) -> 41268 | C14: =ROUND(19%*C5,0) -> 41268 | D14: =ROUND(19%*D5,0) -> 41268 | E14: =ROUND(19%*E5,0) -> 41268 | F14: =ROUND(19%*F5,0) -> 41268 | G14: =ROUND(19%*G5,0) -> 41268 | H14: =ROUND(19%*H5,0) -> 41268 | I14: =ROUND(19%*I5,0) -> 41268 | ... M14: =ROUND(19%*M5,0) -> 41268 | N14: =SUM(B14:M14) -> 495216
A15: Bank Charges | B15: 1200 | C15: 1200 | D15: 1200 | E15: 1200 | F15: 1200 | G15: 1200 | H15: 1200 | I15: 1200 | J15: 1200 | K15: 1200 | L15: 1200 | M15: 1200 | N15: =SUM(B15:M15) -> 14400
A16: Accounting & Audit fees | B16: 5000 | C16: 5000 | D16: 5000 | E16: 5000 | F16: 5000 | G16: 5000 | H16: 5000 | I16: 5000 | J16: 5000 | K16: 5000 | L16: 5000 | M16: 5000 | N16: =SUM(B16:M16) -> 60000
A17: Fuel & Delivery | B17: 3000 | C17: 10000 | D17: 10000 | E17: 17500 | F17: 17500 | G17: 17500 | H17: 17500 | I17: 17500 | J17: 17500 | K17: 17500 | L17: 17500 | M17: 17500 | N17: =SUM(B17:M17) -> 180500
A18: Advertising | B18: 500000 | C18: 500000 | D18: 150000 | E18: 150000 | F18: 150000 | G18: 150000 | H18: 150000 | I18: 150000 | J18: 150000 | K18: 150000 | L18: 150000 | M18: 150000 | N18: =SUM(B18:M18) -> 2500000
A19: Loan repayments | B19: 4221 | C19: 4265 | D19: 4309 | E19: 4354 | F19: 4400 | G19: 4445 | H19: 4492 | I19: 4539 | J19: 4586 | K19: 4634 | L19: 4682 | M19: 4731 | N19: =SUM(B19:M19) -> 53658
A20: Finance Cost | B20: 10417 | C20: 10373 | D20: 10328 | E20: 10283 | F20: 10238 | G20: 10192 | H20: 10146 | I20: 10099 | J20: 10052 | K20: 10004 | L20: 9956 | M20: 99070 | N20: =SUM(B20:M20) -> 211158
A21: Wages & Salaries | B21: 39000 | C21: 39000 | D21: 39000 | E21: 39000 | F21: 39000 | G21: 39000 | H21: 39000 | I21: 39000 | J21: 39000 | K21: 39000 | L21: 39000 | M21: 39000 | N21: =M21+L21+K21+J21+I21+H21+G21+F21+E21+D21+C21+B21 -> 468000
A22: Repairs & Maintenance | B22: 0 | C22: 0 | D22: 7000 | E22: 0 | F22: 0 | G22: 7000 | H22: 0 | I22: 0 | J22: 7000 | K22: 0 | L22: 0 | M22: 7000 | N22: =M22+L22+K22+J22+I22+H22+G22+F22+E22+D22+C22+B22 -> 28000
A23: insurance | B23: 3750 | C23: 3750 | D23: 3750 | E23: 3750 | F23: 3750 | G23: 3750 | H23: 3750 | I23: 3750 | J23: 3750 | K23: 3750 | L23: 3750 | M23: 3750 | N23: =M23+L23+K23+J23+I23+H23+G23+F23+E23+D23+C23+B23 -> 45000
A24: Office Expenditure | B24: 1250 | C24: 1250 | D24: 1250 | E24: 1250 | F24: 1250 | G24: 1250 | H24: 1250 | I24: 1250 | J24: 1250 | K24: 1250 | L24: 1250 | M24: 1250 | N24: =SUM(B24:M24) -> 15000
A25: Rental, Water & Electricity | B25: 15000 | C25: 15000 | D25: 15000 | E25: 15000 | F25: 15000 | G25: 15000 | H25: 15000 | I25: 15000 | J25: 15000 | K25: 15000 | L25: 15000 | M25: 15000 | N25: =SUM(B25:M25) -> 180000
A26: Stationery | B26: 500 | C26: 0 | D26: 0 | E26: 0 | F26: 500 | G26: 0 | H26: 0 | I26: 0 | J26: 500 | K26: 0 | L26: 0 | M26: 0 | N26: =SUM(B26:M26) -> 1500
A27: Telephone & Internet | B27: 1500 | C27: 1500 | D27: 1500 | E27: 1500 | F27: 1500 | G27: 1500 | H27: 1500 | I27: 1500 | J27: 1500 | K27: 1500 | L27: 1500 | M27: 1500 | N27: =SUM(B27:M27) -> 18000
A28: Postage | B28: 25 | C28: 25 | D28: 25 | E28: 25 | F28: 25 | G28: 25 | H28: 25 | I28: 25 | J28: 25 | K28: 25 | L28: 25 | M28: 25 | N28: =SUM(B28:M28) -> 300
A29: Alarm & Security | B29: 1000 | C29: 1000 | D29: 1000 | E29: 1000 | F29: 1000 | G29: 1000 | H29: 1000 | I29: 1000 | J29: 1000 | K29: 1000 | L29: 1000 | M29: 1000 | N29: =SUM(B29:M29) -> 12000
A30: Training | B30: 20000 | C30: 20000 | D30: 20000 | E30: 20000 | F30: 20000 | G30: 20000 | H30: 0 | I30: 0 | J30: 0 | K30: 0 | L30: 0 | M30: 0 | N30: =SUM(B30:M30) -> 120000
A31: Consulting | B31: 15000 | C31: 15000 | D31: 15000 | E31: 15000 | F31: 15000 | G31: 15000 | H31: 15000 | I31: 15000 | J31: 15000 | K31: 15000 | L31: 15000 | M31: 15000 | N31: =SUM(B31:M31) -> 180000
A32: Taxation | B32: 0 | C32: 0 | D32: 0 | E32: 0 | F32: 0 | G32: 0 | H32: 0 | I32: 0 | J32: 0 | K32: 0 | L32: 0 | M32: 0 | N32: =SUM(B32:M32) -> 0
A33: Furniture & Fittings | B33: 50000 | C33: 0 | D33: 0 | E33: 0 | F33: 0 | G33: 0 | H33: 50000 | I33: 0 | J33: 0 | K33: 0 | L33: 0 | M33: 0 | N33: =SUM(B33:M33) -> 100000
A34: Vehicles | B34: 148000 | C34: 0 | D34: 0 | E34: 0 | F34: 0 | G34: 0 | H34: 0 | I34: 0 | J34: 0 | K34: 0 | L34: 0 | M34: 0 | N34: =SUM(B34:M34) -> 148000
A35: SURPLUS/DEFECIT | B35: =B12-B13 -> 397069 | C35: =C12-C13 -> -451431 | D35: =D12-D13 -> -108430 | E35: =E12-E13 -> -108930 | F35: =F12-F13 -> -109431 | G35: =G12-G13 -> -115930 | H35: =H12-H13 -> -138931 | I35: =I12-I13 -> -88931 | ... N35: =N12-N13 -> -1184332
A37: Opening balance | B37: 0 | C37: =B39 -> 397069 | D37: =C39 -> -54362 | E37: =D39 -> -162792 | F37: =E39 -> -271722 | G37: =F39 -> -381153 | H37: =G39 -> -497083 | I37: =H39 -> -636014 | J37: =I39 -> -724945 | ... N37: =M39 -> -1184332
A38: plus surplus/defecit | B38: =B35 -> 397069 | C38: =C35 -> -451431 | D38: =D35 -> -108430 | E38: =E35 -> -108930 | F38: =F35 -> -109431 | G38: =G35 -> -115930 | H38: =H35 -> -138931 | I38: =I35 -> -88931 | ... N38: =N35 -> -1184332
A39: closing balance | B39: =B37+B38 -> 397069 | C39: =C37+C38 -> -54362 | D39: =D37+D38 -> -162792 | E39: =E37+E38 -> -271722 | F39: =F37+F38 -> -381153 | G39: =G37+G38 -> -497083 | H39: =H37+H38 -> -636014 | I39: =I37+I38 -> -724945 | ... N39: =N37+N38 -> -2368664
A42: Assumptions
A43: 1. Loan interest is assumed to be 12.5% compounded monthly
A44: 2. Loan repayment is 10 years

Sheet 5 Year cash flow projections
A1: PROJECTED STTEMENT OF CASHLOW FOR FIVE YEARS
A3: DESCRIPTION | B3: YEAR 1 | C3: YEAR 2 | D3: YEAR 3 | E3: YEAR 4 | F3: YEAR 5
A4: CASH RECEIPTS
A5: Revenue | B5: ='12 Months cash flow statement'!N5 -> 2606400 | C5: =SUM(C6:C9) -> 4819140 | D5: =SUM(D6:D9) -> 7759140 | E5: =SUM(E6:E9) -> 9215464 | F5: =SUM(F6:F9) -> 12549632
A6: Ting | B6: ='12 Months cash flow statement'!N6 -> 504000 | C6: 915600 | D6: 1898400 | E6: 2269160 | F6: 2689348
A7: Breakfast cereal biscuit | B7: ='12 Months cash flow statement'!N7 -> 1080000 | C7: 2046180 | D7: 2988000 | E7: 3988800 | F7: 5012640
A8: Breakfast cereal bar | B8: ='12 Months cash flow statement'!N8 -> 691200 | C8: 1255680 | D8: 2142720 | E8: 2078304 | F8: 3742772
A9: Breakfast cereal café | B9: ='12 Months cash flow statement'!N9 -> 331200 | C9: ='Revenue Forecast'!C57+'Revenue Forecast'!B63 -> 601680 | D9: ='Revenue Forecast'!D57+'Revenue Forecast'!C63 -> 730020 | E9: ='Revenue Forecast'!E57+'Revenue Forecast'!D63 -> 879200 | F9: ='Revenue Forecast'!F57+'Revenue Forecast'!E63 -> 1104872
A10: ='12 Months cash flow statement'!A10 -> owner's contributions | B10: ='12 Months cash flow statement'!B10 -> 40000 | C10: 0 | D10: 0 | E10: 0 | F10: =ROUND(E10*115/100,0) -> 0
A11: Business loan | B11: ='12 Months cash flow statement'!N11 -> 1000000 | C11: ='12 Months cash flow statement'!O11 -> 0 | D11: ='12 Months cash flow statement'!P11 -> 0 | E11: ='12 Months cash flow statement'!Q11 -> 0 | F11: =ROUND(E11*115/100,0) -> 0
A12: TOTAL CASH RECEIVED | B12: =B5+B10+B11 -> 3646400 | C12: =C5+C10+C11 -> 4819140 | D12: =D5+D10+D11 -> 7759140 | E12: =E5+E10+E11 -> 9215464 | F12: =F5+F10+F11 -> 12549632
A13: LESS CASH PAYMENTS | B13: =SUM(B14:B34) -> 4830732 | C13: =SUM(C14:C34) -> 5433111 | D13: =SUM(D14:D34) -> 6335496 | E13: =SUM(E14:E34) -> 7523667 | F13: =SUM(F14:F34) -> 8090558
A14: Cost of sales | B14: ='12 Months cash flow statement'!N14 -> 495216 | C14: =ROUND(19%*C5,0) -> 915637 | D14: =ROUND(19%*D5,0) -> 1474237 | E14: =ROUND(25%*E5,0) -> 2303866 | F14: =ROUND(25%*F5,0) -> 3137408
A15: ='12 Months cash flow statement'!A15 -> Bank Charges | B15: ='12 Months cash flow statement'!N15 -> 14400 | C15: =B15 -> 14400 | D15: 14400 | E15: =D15 -> 14400 | F15: =E15 -> 14400
A16: ='12 Months cash flow statement'!A16 -> Accounting & Audit fees | B16: ='12 Months cash flow statement'!N16 -> 60000 | C16: 63000 | D16: 68040 | E16: 72122 | F16: 76450
A17: ='12 Months cash flow statement'!A17 -> Fuel & Delivery | B17: ='12 Months cash flow statement'!N17 -> 180500 | C17: =B17 -> 180500 | D17: 190000 | E17: 190000 | F17: =E17 -> 190000
A18: ='12 Months cash flow statement'!A18 -> Advertising | B18: ='12 Months cash flow statement'!N18 -> 2500000 | C18: 2500000 | D18: 2500000 | E18: =D18 -> 2500000 | F18: 1500000
A19: ='12 Months cash flow statement'!A19 -> Loan repayments | B19: ='12 Months cash flow statement'!N19 -> 53658 | C19: 60761 | D19: 60807 | E19: 77918 | F19: 88236
A20: Finance Cost | B20: ='12 Months cash flow statement'!N20 -> 211158 | C20: 114890 | D20: 106844 | E20: 97733 | F20: 87415
A21: ='12 Months cash flow statement'!A21 -> Wages & Salaries | B21: ='12 Months cash flow statement'!N21 -> 468000 | C21: 800000 | D21: 1200000 | E21: 1500000 | F21: 2000000
A22: ='12 Months cash flow statement'!A22 -> Repairs & Maintenance | B22: ='12 Months cash flow statement'!N22 -> 28000 | C22: 30000 | D22: =C22 -> 30000 | E22: 40000 | F22: =E22 -> 40000
A23: ='12 Months cash flow statement'!A23 -> insurance | B23: ='12 Months cash flow statement'!N23 -> 45000 | C23: =B23*1.03 -> 46350 | D23: =C23*1.08 -> 50058 | E23: =ROUND(D23*1.05,0) -> 52561 | F23: 58000
A24: ='12 Months cash flow statement'!A24 -> Office Expenditure | B24: ='12 Months cash flow statement'!N24 -> 15000 | C24: =B24 -> 15000 | D24: 20000 | E24: =D24*1.02 -> 20400 | F24: =E24*1.04 -> 21216
A25: ='12 Months cash flow statement'!A25 -> Rental, Water & Electricity | B25: ='12 Months cash flow statement'!N25 -> 180000 | C25: =ROUND(B25*1.1,0) -> 198000 | D25: =ROUND(C25*1.1,0) -> 217800 | E25: =ROUND(D25*1.1,0) -> 239580 | F25: =ROUND(E25*1.1,0) -> 263538
A26: ='12 Months cash flow statement'!A26 -> Stationery | B26: ='12 Months cash flow statement'!N26 -> 1500 | C26: 1500 | D26: 1500 | E26: 1500 | F26: 1500
A27: ='12 Months cash flow statement'!A27 -> Telephone & Internet | B27: ='12 Months cash flow statement'!N27 -> 18000 | C27: 18000 | D27: 20000 | E27: 20000 | F27: 22000
A28: Postage | B28: ='12 Months cash flow statement'!N28 -> 300 | C28: 310 | D28: 330 | E28: 350 | F28: 350
A29: Alam & Security | B29: ='12 Months cash flow statement'!N29 -> 12000 | C29: 12000 | D29: 15000 | E29: 15000 | F29: 18000
A30: Training | B30: ='12 Months cash flow statement'!N30 -> 120000 | C30: 0 | D30: 0 | E30: 0 | F30: =B30*1.1 -> 132000
A31: Consulting | B31: ='12 Months cash flow statement'!N31 -> 180000 | C31: =B31*1.05 -> 189000 | D31: 0 | E31: 0 | F31: 0
A32: Taxation | B32: ='12 Months cash flow statement'!N32 -> 0 | C32: 273763 | D32: 366480 | E32: 378237 | F32: 410045
A33: ='12 Months cash flow statement'!A33 -> Furniture & Fittings | B33: ='12 Months cash flow statement'!N33 -> 100000 | C33: 0 | D33: 0 | E33: 0 | F33: 30000
A34: Vehicle | B34: ='12 Months cash flow statement'!B34 -> 148000 | C34: 0 | D34: 0 | E34: 0 | F34: 0
A35: CASH RECEIVED | B35: =B12 -> 3646400 | C35: =C12 -> 4819140 | D35: =D12 -> 7759140 | E35: =E12 -> 9215464 | F35: =F12 -> 12549632
A36: LESS CASH PAYMENTS | B36: =B13 -> 4830732 | C36: =C13 -> 5433111 | D36: =D13 -> 6335496 | E36: =E13 -> 7523667 | F36: =F13 -> 8090558
A37: SURPLUS/ DEFECIT | B37: =B35-B36 -> -1184332 | C37: =C35-C36 -> -613971 | D37: =D35-D36 -> 1423644 | E37: =E35-E36 -> 1691797 | F37: =F35-F36 -> 4459074
A39: Opening balance | B39: 0 | C39: =B41 -> -1184332 | D39: =C41 -> -1798303 | E39: =D41 -> -374659 | F39: =E41 -> 1317138
A40: Plus surplus | B40: =B37 -> -1184332 | C40: =C37 -> -613971 | D40: =D37 -> 1423644 | E40: =E37 -> 1691797 | F40: =F37 -> 4459074
A41: closing balance | B41: =B39+B40 -> -1184332 | C41: =C40+C39 -> -1798303 | D41: =D40+D39 -> -374659 | E41: =E39+E40 -> 1317138 | F41: =F39+F40 -> 5776212

Sheet Revenue Forecast
A1: FIVE YEAR REVENUE PROJECTIONS
A3: Ting | B3: YEAR 1 | C3: YEAR 2 | D3: YEAR 3 | E3: YEAR 4 | F3: YEAR 5
A4: CASH
A5: First Quarter | B5: 126000 | C5: =ROUND(115%*B5,0) -> 144900 | D5: 378000 | E5: =ROUND(D5*118%,0) -> 446040 | F5: =ROUND(E5*130%,0) -> 579852
A6: Second Qoarter | B6: 126000 | C6: =ROUND(115%*B6,0) -> 144900 | D6: 378000 | E6: =ROUND(D6*118%,0) -> 446040 | F6: =ROUND(E6*130%,0) -> 579852
A7: Third Quarter | B7: 126000 | C7: =ROUND(115%*B7,0) -> 144900 | D7: 378000 | E7: =ROUND(D7*118%,0) -> 446040 | F7: =ROUND(E7*130%,0) -> 579852
A8: Fourth Quarter | B8: 126000 | C8: =ROUND(115%*B8,0) -> 144900 | D8: 378000 | E8: =ROUND(D8*118%,0) -> 446040 | F8: =ROUND(E8*130%,0) -> 579852
A9: Total | B9: =SUM(B5:B8) -> 504000 | C9: =SUM(C5:C8) -> 579600 | D9: =SUM(D5:D8) -> 1512000 | E9: =SUM(E5:E8) -> 1784160 | F9: =SUM(F5:F8) -> 2319408
A10: CREDIT
A11: First Quarter | B11: 84000 | C11: =ROUND(115%*B11,0) -> 96600 | D11: =ROUND(C11*125%,0) -> 120750 | E11: =ROUND(D11*118%,0) -> 142485 | F11: =ROUND(E11*130%,0) -> 185231
A12: Second Qoarter | B12: 84000 | C12: =ROUND(115%*B12,0) -> 96600 | D12: 120750 | E12: =ROUND(D12*118%,0) -> 142485 | F12: =ROUND(E12*130%,0) -> 185231
A13: Third Quarter | B13: 84000 | C13: =ROUND(115%*B13,0) -> 96600 | D13: 120750 | E13: =ROUND(D13*118%,0) -> 142485 | F13: =ROUND(E13*130%,0) -> 185231
A14: Fourth Quarter | B14: 84000 | C14: =ROUND(115%*B14,0) -> 96600 | D14: 120750 | E14: =ROUND(D14*118%,0) -> 142485 | F14: =ROUND(E14*130%,0) -> 185231
A15: Total | B15: =SUM(B11:B14) -> 336000 | C15: =SUM(C11:C14) -> 386400 | D15: =SUM(D11:D14) -> 483000 | E15: =SUM(E11:E14) -> 569940 | F15: =SUM(F11:F14) -> 740924
A16: SUB-TOTAL | B16: =B9+B15 -> 840000 | C16: =C9+C15 -> 966000 | D16: =D9+D15 -> 1995000 | E16: =E9+E15 -> 2354100 | F16: =F9+F15 -> 3060332
A19: Breakfast cereal biscuit | B19: YEAR 1 | C19: YEAR 2 | D19: YEAR 3 | E19: YEAR 4 | F19: YEAR 5
A20: CASH
A21: First Quarter | B21: 270000 | C21: =394680 -> 394680 | D21: 540000 | E21: =ROUND(D21*118%,0) -> 637200 | F21: =ROUND(E21*130%,0) -> 828360
A22: Second Qoarter | B22: 270000 | C22: =ROUND(115%*B22,0) -> 310500 | D22: 540000 | E22: =ROUND(D22*118%,0) -> 637200 | F22: =ROUND(E22*130%,0) -> 828360
A23: Third Quarter | B23: 270000 | C23: =ROUND(115%*B23,0) -> 310500 | D23: 540000 | E23: =ROUND(D23*118%,0) -> 637200 | F23: =ROUND(E23*130%,0) -> 828360
A24: Fourth Quarter | B24: 270000 | C24: =ROUND(115%*B24,0) -> 310500 | D24: 540000 | E24: =ROUND(D24*118%,0) -> 637200 | F24: =ROUND(E24*130%,0) -> 828360
A25: Total | B25: =SUM(B21:B24) -> 1080000 | C25: =SUM(C21:C24) -> 1326180 | D25: =SUM(D21:D24) -> 2160000 | E25: =SUM(E21:E24) -> 2548800 | F25: =SUM(F21:F24) -> 3313440
A26: CREDIT
A27: First Quarter | B27: 180000 | C27: =ROUND(115%*B27,0) -> 207000 | D27: 360000 | E27: =ROUND(D27*118%,0) -> 424800 | F27: =ROUND(E27*130%,0) -> 552240
A28: Second Qoarter | B28: 180000 | C28: =ROUND(115%*B28,0) -> 207000 | D28: 360000 | E28: =ROUND(D28*118%,0) -> 424800 | F28: =ROUND(E28*130%,0) -> 552240
A29: Third Quarter | B29: 180000 | C29: =ROUND(115%*B29,0) -> 207000 | D29: 360000 | E29: =ROUND(D29*118%,0) -> 424800 | F29: =ROUND(E29*130%,0) -> 552240
A30: Fourth Quarter | B30: 180000 | C30: =ROUND(115%*B30,0) -> 207000 | D30: 360000 | E30: =ROUND(D30*118%,0) -> 424800 | F30: =ROUND(E30*130%,0) -> 552240
A31: Total | B31: =SUM(B27:B30) -> 720000 | C31: =SUM(C27:C30) -> 828000 | D31: =SUM(D27:D30) -> 1440000 | E31: =SUM(E27:E30) -> 1699200 | F31: =SUM(F27:F30) -> 2208960
A32: SUB-TOTAL | B32: =B25+B31 -> 1800000 | C32: =C25+C31 -> 2154180 | D32: 3600000 | E32: =E25+E31 -> 4248000 | F32: =F25+F31 -> 5522400
A35: Breakfast cereal bar | B35: YEAR 1 | C35: YEAR 2 | D35: YEAR 3 | E35: YEAR 4 | F35: YEAR 5
A36: CASH
A37: First Quarter | B37: 172800 | C37: =ROUND(115%*B37,0) -> 198720 | D37: 403200 | E37: =ROUND(D37*118%,0) -> 475776 | F37: =ROUND(E37*130%,0) -> 618509
A38: Second Qoarter | B38: 172800 | C38: =ROUND(115%*B38,0) -> 198720 | D38: 403200 | E38: =ROUND(D38*118%,0) -> 475776 | F38: =ROUND(E38*130%,0) -> 618509
A39: Third Quarter | B39: 172800 | C39: =ROUND(115%*B39,0) -> 198720 | D39: 403200 | E39: =ROUND(D39*118%,0) -> 475776 | F39: =ROUND(E39*130%,0) -> 618509
A40: Fourth Quarter | B40: 172800 | C40: =ROUND(115%*B40,0) -> 198720 | D40: 403200 | E40: =ROUND(D40*118%,0) -> 475776 | F40: =ROUND(E40*130%,0) -> 618509
A41: Total | B41: =SUM(B37:B40) -> 691200 | C41: =SUM(C37:C40) -> 794880 | D41: =SUM(D37:D40) -> 1612800 | E41: =SUM(E37:E40) -> 1903104 | F41: =SUM(F37:F40) -> 2474036
A42: CREDIT
A43: First Quarter | B43: 115200 | C43: =ROUND(115%*B43,0) -> 132480 | D43: 268800 | E43: =ROUND(D43*118%,0) -> 317184 | F43: =ROUND(E43*130%,0) -> 412339
A44: Second Qoarter | B44: 115200 | C44: =ROUND(115%*B44,0) -> 132480 | D44: 268800 | E44: =ROUND(D44*118%,0) -> 317184 | F44: =ROUND(E44*130%,0) -> 412339
A45: Third Quarter | B45: 115200 | C45: =ROUND(115%*B45,0) -> 132480 | D45: 268800 | E45: =ROUND(D45*118%,0) -> 317184 | F45: =ROUND(E45*130%,0) -> 412339
...

Sheet 5 year income statement
A1: POJECTED STATEMENT OF PROFIT OR LOSS AND OTHER COMPREHENSIVE INCOME FOR FIVE YEARS
A3: DESCRIPTION | B3: YEAR 1 | C3: YEAR 2 | D3: YEAR 3 | E3: YEAR 4 | F3: YEAR 5
A4: Revenue | B4: ='Revenue Forecast'!B66 -> 4344000 | C4: ='Revenue Forecast'!C66 -> 5079780 | D4: ='Revenue Forecast'!D66 -> 9076500 | E4: ='Revenue Forecast'!E66 -> 10710272 | F4: ='Revenue Forecast'!F66 -> 13923356
A5: less cost of sales | B5: =ROUND(B4*19%,0) -> 825360 | C5: =ROUND(C4*19%,0) -> 965158 | D5: =ROUND(D4*19%,0) -> 1724535 | E5: =ROUND(E4*19%,0) -> 2034952 | F5: =ROUND(F4*19%,0) -> 2645438
A6: GROSS PROFIT | B6: =B4-B5 -> 3518640 | C6: =C4-C5 -> 4114622 | D6: =D4-D5 -> 7351965 | E6: =E4-E5 -> 8675320 | F6: =F4-F5 -> 11277918
A7: Less Operating Expenditure | B7: =SUM(B8:B24) -> 4073458 | C7: =SUM(C8:C24) -> 4252550 | D7: =SUM(D8:D24) -> 4503572 | E7: =SUM(E8:E24) -> 4843246 | F7: =SUM(F8:F24) -> 4555469
A8: Bank Charges | B8: ='5 Year cash flow projections'!B15 -> 14400 | C8: ='5 Year cash flow projections'!C15 -> 14400 | D8: ='5 Year cash flow projections'!D15 -> 14400 | E8: ='5 Year cash flow projections'!E15 -> 14400 | F8: ='5 Year cash flow projections'!F15 -> 14400
A9: Accounting & Audit Fees | B9: ='5 Year cash flow projections'!B16 -> 60000 | C9: ='5 Year cash flow projections'!C16 -> 63000 | D9: ='5 Year cash flow projections'!D16 -> 68040 | E9: ='5 Year cash flow projections'!E16 -> 72122 | F9: ='5 Year cash flow projections'!F16 -> 76450
A10: Fuel & Delivery | B10: ='5 Year cash flow projections'!B17 -> 180500 | C10: ='5 Year cash flow projections'!C17 -> 180500 | D10: ='5 Year cash flow projections'!D17 -> 190000 | E10: ='5 Year cash flow projections'!E17 -> 190000 | F10: ='5 Year cash flow projections'!F17 -> 190000
A11: Advertising | B11: ='5 Year cash flow projections'!B18 -> 2500000 | C11: ='5 Year cash flow projections'!C18 -> 2500000 | D11: ='5 Year cash flow projections'!D18 -> 2500000 | E11: ='5 Year cash flow projections'!E18 -> 2500000 | F11: ='5 Year cash flow projections'!F18 -> 1500000
A12: Finance Cost | B12: ='5 Year cash flow projections'!B20 -> 211158 | C12: ='5 Year cash flow projections'!C20 -> 114890 | D12: ='5 Year cash flow projections'!D20 -> 106844 | E12: ='5 Year cash flow projections'!E20 -> 97733 | F12: ='5 Year cash flow projections'!F20 -> 87415
A13: Salaries & Wages | B13: ='5 Year cash flow projections'!B21 -> 468000 | C13: ='5 Year cash flow projections'!C21 -> 800000 | D13: ='5 Year cash flow projections'!D21 -> 1200000 | E13: ='5 Year cash flow projections'!E21 -> 1500000 | F13: ='5 Year cash flow projections'!F21 -> 2000000
A14: Repairs & Maintenance | B14: ='5 Year cash flow projections'!B22 -> 28000 | C14: 60000 | D14: 60000 | E14: 80000 | F14: 121000
A15: Insurance | B15: ='5 Year cash flow projections'!B23 -> 45000 | C15: ='5 Year cash flow projections'!C23 -> 46350 | D15: ='5 Year cash flow projections'!D23 -> 50058 | E15: ='5 Year cash flow projections'!E23 -> 52561 | F15: ='5 Year cash flow projections'!F23 -> 58000
A16: Office Expense | B16: ='5 Year cash flow projections'!B24 -> 15000 | C16: ='5 Year cash flow projections'!C24 -> 15000 | D16: ='5 Year cash flow projections'!D24 -> 20000 | E16: ='5 Year cash flow projections'!E24 -> 20400 | F16: ='5 Year cash flow projections'!F24 -> 21216
A17: Rent, Water & Electricity | B17: ='5 Year cash flow projections'!B25 -> 180000 | C17: ='5 Year cash flow projections'!C25 -> 198000 | D17: ='5 Year cash flow projections'!D25 -> 217800 | E17: ='5 Year cash flow projections'!E25 -> 239580 | F17: ='5 Year cash flow projections'!F25 -> 263538
A18: Stationery | B18: ='5 Year cash flow projections'!B26 -> 1500 | C18: ='5 Year cash flow projections'!C26 -> 1500 | D18: ='5 Year cash flow projections'!D26 -> 1500 | E18: ='5 Year cash flow projections'!E26 -> 1500 | F18: ='5 Year cash flow projections'!F26 -> 1500
A19: Telephone & Internet | B19: ='5 Year cash flow projections'!B27 -> 18000 | C19: ='5 Year cash flow projections'!C27 -> 18000 | D19: ='5 Year cash flow projections'!D27 -> 20000 | E19: ='5 Year cash flow projections'!E27 -> 20000 | F19: ='5 Year cash flow projections'!F27 -> 22000
A20: Postage | B20: ='5 Year cash flow projections'!B28 -> 300 | C20: ='5 Year cash flow projections'!C28 -> 310 | D20: ='5 Year cash flow projections'!D28 -> 330 | E20: ='5 Year cash flow projections'!E28 -> 350 | F20: ='5 Year cash flow projections'!F28 -> 350
A21: Alarm system & Security | B21: ='5 Year cash flow projections'!B29 -> 12000 | C21: ='5 Year cash flow projections'!C29 -> 12000 | D21: ='5 Year cash flow projections'!D29 -> 15000 | E21: ='5 Year cash flow projections'!E29 -> 15000 | F21: ='5 Year cash flow projections'!F29 -> 18000
A22: Training | B22: ='5 Year cash flow projections'!B30 -> 120000 | C22: ='5 Year cash flow projections'!C30 -> 0 | D22: ='5 Year cash flow projections'!D30 -> 0 | E22: ='5 Year cash flow projections'!E30 -> 0 | F22: ='5 Year cash flow projections'!F30 -> 132000
A23: Consulting | B23: ='5 Year cash flow projections'!B31 -> 180000 | C23: ='5 Year cash flow projections'!C31 -> 189000 | D23: ='5 Year cash flow projections'!D31 -> 0 | E23: ='5 Year cash flow projections'!E31 -> 0 | F23: ='5 Year cash flow projections'!F31 -> 0
A24: Depreciation | B24: 39600 | C24: 39600 | D24: 39600 | E24: 39600 | F24: 49600
A25: Profit before tax | B25: =B6-B7 -> -554818 | C25: =C6-C7 -> -137928 | D25: =D6-D7 -> 2848393 | E25: =E6-E7 -> 3832074 | F25: =F6-F7 -> 6722449
A26: Taxation | B26: =ROUND((B25+B24)*28%,0) -> -144261 | C26: =ROUND((C25+C24)*28%,0) -> -27532 | D26: =ROUND((D25+D24)*28%,0) -> 808638 | E26: =ROUND((E25+E24)*28%,0) -> 1084069 | F26: =ROUND((F25+F24)*28%,0) -> 1896174
A27: Net Income (Loss) | B27: =B25-B26 -> -410557 | C27: =C25-C26 -> -110396 | D27: =D25-D26 -> 2039755 | E27: =E25-E26 -> 2748005 | F27: =F25-F26 -> 4826275
A28: Dividend | B28: 0 | C28: 0 | D28: 0 | E28: 0 | F28: 0
A29: Retained Earnings | B29: =B27-B28 -> -410557 | C29: =C27-C28 -> -110396 | D29: =D27-D28 -> 2039755 | E29: =E27-E28 -> 2748005 | F29: =F27-F28 -> 4826275
A32: ASSUMPTIONS
A33: Revenues icreased by 20% per year
A34: COST OF SALES INCREASE BY 8%
A35: LOAN IS R1 000 000
A36: Depreciation is 20% pa using straight line method on all property, plant and equipment

Sheet Balance sheet 
A1: PROJECTED STATEMENT OF FINANCIAL POSITION FOR FIVE YEARS
B3: Year 1 | C3: Year 2 | D3: Year 3 | E3: Year 4 | F3: Year 5
A4: Assets
A5: Non-Current Assets | B5: =B6 -> 198000 | C5: =C6 -> 198000 | D5: =D6 -> 198000 | E5: =E6 -> 198000 | F5: =F6 -> 248000
A6: Property Plant & Equipment | B6: 198000 | C6: 198000 | D6: 198000 | E6: 198000 | F6: 248000
A8: Currents Assets | B8: =SUM(B9:B11) -> 2510227 | C8: =SUM(C9:C11) -> 3113061 | D8: =SUM(D9:D11) -> 3488054 | E8: =SUM(E9:E11) -> 5433041 | F8: =SUM(F9:F11) -> 11126888
A9: Trade & Other receivables | B9: 2427691 | C9: 3016545 | D9: ='Revenue Forecast'!D68 -> 3315600 | E9: ='Revenue Forecast'!E68 -> 3912408 | F9: ='Revenue Forecast'!F68 -> 5086132
A10: Cash & Cash Equivalence | B10: 0 | C10: 0 | D10: 0 | E10: ='5 Year cash flow projections'!E41 -> 1317138 | F10: ='5 Year cash flow projections'!F41 -> 5776212
A11: Inventory | B11: =ROUND(10%*'5 year income statement'!B5,0) -> 82536 | C11: =ROUND(10%*'5 year income statement'!C5,0) -> 96516 | D11: =ROUND(10%*'5 year income statement'!D5,0) -> 172454 | E11: =ROUND(10%*'5 year income statement'!E5,0) -> 203495 | F11: =ROUND(10%*'5 year income statement'!F5,0) -> 264544
A13: Total Assets | B13: =+B5+B8 -> 2708227 | C13: =+C5+C8 -> 3311061 | D13: =+D5+D8 -> 3686054 | E13: =+E5+E8 -> 5631041 | F13: =+F5+F8 -> 11374888
A15: Equity & Liabilities
A16: Equity | B16: =+B17+B18 -> 40000 | C16: =+C17+C18 -> 40000 | D16: =+D17+D18 -> 2079755 | E16: =+E17+E18 -> 2788005 | F16: =+F17+F18 -> 4866275
A17: Members interest | B17: 40000 | C17: 40000 | D17: 40000 | E17: 40000 | F17: 40000
A18: Retained Earnings | B18: 0 | C18: 0 | D18: ='5 year income statement'!D29 -> 2039755 | E18: ='5 year income statement'!E29 -> 2748005 | F18: ='5 year income statement'!F29 -> 4826275
A20: Non-current liabilities | B20: =+B21+B22 -> 946344 | C20: =+C21+C22 -> 885582 | D20: =+D21+D22 -> 816775 | E20: =+E21+E22 -> 738856 | F20: =+F21+F22 -> 650620
A21: Members Loans | B21: 0 | C21: 0 | D21: 0 | E21: 0 | F21: 0
A22: Long Term liabilities | B22: 946344 | C22: 885582 | D22: 816775 | E22: 738856 | F22: 650620
A24: Current liabilities | B24: =SUM(B25:B28) -> 1721883 | C24: =SUM(C25:C28) -> 2385479 | D24: =SUM(D25:D28) -> 1610324 | E24: =SUM(E25:E28) -> 3126580 | F24: =SUM(F25:F28) -> 7210873
A25: Trade & Other Payables | B25: 361900 | C25: 411525 | D25: 1060014 | E25: 2950929 | F25: 7035222
A26: Current Potion of long term loan | B26: 53656 | C26: 60761 | D26: 68807 | E26: 77918 | F26: 88236
A27: Interest | B27: 121995 | C27: 114890 | D27: 106844 | E27: 97733 | F27: 87415
A28: Bank overdraft | B28: 1184332 | C28: 1798303 | D28: 374659 | E28: 0 | F28: 0
A30: Total Equity & Liabiites | B30: =B16+B20+B24 -> 2708227 | C30: =C16+C20+C24 -> 3311061 | D30: =D16+D20+D24 -> 4506854 | E30: =E16+E20+E24 -> 6653441 | F30: =F16+F20+F24 -> 12727768
B31: =B30-B13 -> 0 | C31: =C30-C13 -> 0 | D31: =D30-D13 -> 820800 | E31: =E30-E13 -> 1022400 | F31: =F30-F13 -> 1352880
A33: NB. Depereciation was calculated at 20% annually in all the fixed assets using straight line method
